BEGIN:VCALENDAR
VERSION:2.0
PRODID:-//MENZA - ECPv6.15.20//NONSGML v1.0//EN
CALSCALE:GREGORIAN
METHOD:PUBLISH
X-ORIGINAL-URL:https://menza.co.nz
X-WR-CALDESC:Events for MENZA
REFRESH-INTERVAL;VALUE=DURATION:PT1H
X-Robots-Tag:noindex
X-PUBLISHED-TTL:PT1H
BEGIN:VTIMEZONE
TZID:Pacific/Auckland
BEGIN:STANDARD
TZOFFSETFROM:+1300
TZOFFSETTO:+1200
TZNAME:NZST
DTSTART:20240406T140000
END:STANDARD
BEGIN:DAYLIGHT
TZOFFSETFROM:+1200
TZOFFSETTO:+1300
TZNAME:NZDT
DTSTART:20240928T140000
END:DAYLIGHT
BEGIN:STANDARD
TZOFFSETFROM:+1300
TZOFFSETTO:+1200
TZNAME:NZST
DTSTART:20250405T140000
END:STANDARD
BEGIN:DAYLIGHT
TZOFFSETFROM:+1200
TZOFFSETTO:+1300
TZNAME:NZDT
DTSTART:20250927T140000
END:DAYLIGHT
BEGIN:STANDARD
TZOFFSETFROM:+1300
TZOFFSETTO:+1200
TZNAME:NZST
DTSTART:20260404T140000
END:STANDARD
BEGIN:DAYLIGHT
TZOFFSETFROM:+1200
TZOFFSETTO:+1300
TZNAME:NZDT
DTSTART:20260926T140000
END:DAYLIGHT
END:VTIMEZONE
BEGIN:VEVENT
DTSTART;TZID=Pacific/Auckland:20250516T063000
DTEND;TZID=Pacific/Auckland:20250516T203000
DTSTAMP:20260422T001717
CREATED:20250329T231934Z
LAST-MODIFIED:20250407T035419Z
UID:171808-1747377000-1747427400@menza.co.nz
SUMMARY:Auckland Whakawhanaungatanga Hui
DESCRIPTION:This is a special gathering for MENZA music educators in the Auckland region—a chance to connect\, network\, and strengthen our music education community. Come along to meet fellow educators\, learn more about MENZA\, and enjoy our shared passion for music. Food and drinks provided. You don’t have to be a MENZA member to join in. \nPlease register here for catering purposes\, or contact Molly: molly.devine@sae.ac.nz \nMENZA Auckland Hui
URL:https://menza.co.nz/event/auckland-whakawhanaungatanga-hui/
LOCATION:Crescendo Trust of Aotearoa\, 8/14 Henderson Valley Road\, Henderson\, Auckland\, 0612\, New Zealand
CATEGORIES:Auckland and Northland
ATTACH;FMTTYPE=image/png:https://menza.co.nz/wp-content/uploads/2025/03/Auckland-hui-2025.png
END:VEVENT
END:VCALENDAR