BEGIN:VCALENDAR
VERSION:2.0
PRODID:-//MENZA - ECPv6.15.20//NONSGML v1.0//EN
CALSCALE:GREGORIAN
METHOD:PUBLISH
X-ORIGINAL-URL:https://menza.co.nz
X-WR-CALDESC:Events for MENZA
REFRESH-INTERVAL;VALUE=DURATION:PT1H
X-Robots-Tag:noindex
X-PUBLISHED-TTL:PT1H
BEGIN:VTIMEZONE
TZID:UTC
BEGIN:STANDARD
TZOFFSETFROM:+0000
TZOFFSETTO:+0000
TZNAME:UTC
DTSTART:20210101T000000
END:STANDARD
END:VTIMEZONE
BEGIN:VEVENT
DTSTART;VALUE=DATE:20221020
DTEND;VALUE=DATE:20221025
DTSTAMP:20260425T222046
CREATED:20220110T090727Z
LAST-MODIFIED:20220110T153647Z
UID:168825-1666224000-1666655999@menza.co.nz
SUMMARY:Christchurch Big Band Festival 2022
DESCRIPTION:Annual Big Band Festival attracting all-age bands from around NZ. \nIncludes Junior Jazz Jam – for primary school jazz bands \nECE interactive jazz show \nSecondary school jazz big band performances in exciting locations around the city! \nCommunity and professional band performances \nGala concert and guests \nChch Youth Jazz Orchestra \nWorkshops! \nand more \nRegister your band at https://www.chchbigbandfest.com/portal
URL:https://menza.co.nz/event/christchurch-big-band-festival-2022/
LOCATION:Christchurch\, Canterbury\, New Zealand
CATEGORIES:Canterbury,National
ATTACH;FMTTYPE=image/jpeg:https://menza.co.nz/wp-content/uploads/2019/09/CBBF-Logo-Standard.jpg
END:VEVENT
END:VCALENDAR