BEGIN:VCALENDAR
VERSION:2.0
PRODID:-//MENZA - ECPv6.15.20//NONSGML v1.0//EN
CALSCALE:GREGORIAN
METHOD:PUBLISH
X-WR-CALNAME:MENZA
X-ORIGINAL-URL:https://menza.co.nz
X-WR-CALDESC:Events for MENZA
REFRESH-INTERVAL;VALUE=DURATION:PT1H
X-Robots-Tag:noindex
X-PUBLISHED-TTL:PT1H
BEGIN:VTIMEZONE
TZID:Pacific/Auckland
BEGIN:STANDARD
TZOFFSETFROM:+1300
TZOFFSETTO:+1200
TZNAME:NZST
DTSTART:20240406T140000
END:STANDARD
BEGIN:DAYLIGHT
TZOFFSETFROM:+1200
TZOFFSETTO:+1300
TZNAME:NZDT
DTSTART:20240928T140000
END:DAYLIGHT
BEGIN:STANDARD
TZOFFSETFROM:+1300
TZOFFSETTO:+1200
TZNAME:NZST
DTSTART:20250405T140000
END:STANDARD
BEGIN:DAYLIGHT
TZOFFSETFROM:+1200
TZOFFSETTO:+1300
TZNAME:NZDT
DTSTART:20250927T140000
END:DAYLIGHT
BEGIN:STANDARD
TZOFFSETFROM:+1300
TZOFFSETTO:+1200
TZNAME:NZST
DTSTART:20260404T140000
END:STANDARD
BEGIN:DAYLIGHT
TZOFFSETFROM:+1200
TZOFFSETTO:+1300
TZNAME:NZDT
DTSTART:20260926T140000
END:DAYLIGHT
END:VTIMEZONE
BEGIN:VEVENT
DTSTART;TZID=Pacific/Auckland:20250903T190000
DTEND;TZID=Pacific/Auckland:20250903T201500
DTSTAMP:20260422T105709
CREATED:20250221T230500Z
LAST-MODIFIED:20250803T235033Z
UID:171716-1756926000-1756930500@menza.co.nz
SUMMARY:Strum Strike and Blow 2025
DESCRIPTION:Strum Strike and Blow \nWednesday Sept 3rd\, 2025 \nStrum\, Strike and Blow is an exciting amalgamation of the ChCh Marimba Festival and ChCh Uke Fest which will feature over 1\,200  students playing marimbas\, ukuleles and recorders.  The Festival is run by Music Education Canterbury and Christchurch Civic Music Council and is in its 12th (and 11th Festival) year and is held in the Wolfbrook Arena (formerly Christchurch Arena). \nOnce schools have registered they are given access to the music which will generally involve 5 individual pieces for ukuleles\, recorders and marimba and a massed item for all three groups of instruments. \nThe music caters for all levels of experience and when performed live at the festival event\, is backed by a professional band. \nWe run workshops for teachers and have plenty of rehearsal material available. \nWe have a full rehearsal on the day between 9:30am-1:15pm at the arena for all participating schools with the accompanying band. \nSchools can register for this festival through the registration page (click here).
URL:https://menza.co.nz/event/ssb2025/
LOCATION:Wolfbrook Arena\, 55 Jack Hinton Drive\, Addington\, Christchurch\, 8042\, New Zealand
CATEGORIES:Canterbury
ATTACH;FMTTYPE=image/jpeg:https://menza.co.nz/wp-content/uploads/2025/02/SSB-Logo-2025-scaled.jpg
END:VEVENT
END:VCALENDAR